BEGIN:VCALENDAR
VERSION:1.0
PRODID:Open2CKalenderExportV11
BEGIN:VEVENT
DTSTAMP:20180125T075029Z
DTSTART:20180202T143000Z
DTEND:20180202T170000Z
CATEGORIES:Fasching
SUMMARY:Kinderball
DESCRIPTION: | Organisator   KITA St. Raphael | Kontakt   08389 / 486
LOCATION:Haus des Gastes
UID:cb3520815386ce5a29f7f0197716a145-dc656e6f8cee4520747b51135976bcdf
PRIORITY:3
END:VEVENT
END:VCALENDAR
