BEGIN:VCALENDAR
VERSION:1.0
PRODID:Open2CKalenderExportV11
BEGIN:VEVENT
DTSTAMP:20180130T085057Z
DTSTART:20180806T200000Z
DTEND:20180806T200000Z
CATEGORIES:Gemeinde
SUMMARY:FFW Sigmarszell - Übung Brand
DESCRIPTION: | Organisator   FFW Sigmarszell | Kontakt   T. Thullner, F. Brombeiß
LOCATION:
UID:e7f5dba20336d03991839ab1997a124b-995b266a3668cb9b03fd2d68c1aca37c
PRIORITY:3
END:VEVENT
END:VCALENDAR
