BEGIN:VCALENDAR
VERSION:1.0
PRODID:Open2CKalenderExportV11
BEGIN:VEVENT
DTSTAMP:20171121T075504Z
DTSTART:20171209T200000Z
DTEND:20171209T230000Z
CATEGORIES:Vereine
SUMMARY:Musikverein Weißensberg e.V. - Jahreskonzert
DESCRIPTION:Wegen der andauernden Sanierungsarbeiten in der Festhalle Weißensberg findet das Jahreskonzert des Musikvereins in der Weißensberger Schulturnhalle statt. | Organisator   Musikverein Weißensberg | Kontakt   Martin Steur, Tel. 929160
LOCATION:Schulturnhalle Weißensberg
UID:43713aba62805a7f002af78a262f4171-8dece14434c926cf4b712892c079b0dc
PRIORITY:3
END:VEVENT
END:VCALENDAR
