BEGIN:VCALENDAR
VERSION:2.0
PRODID:< http://www.open2c.de/ >
METHOD:PUBLISH
X-PUBLISHED-TTL:PT12H
BEGIN:VTIMEZONE
TZID:Europe/Berlin
TZURL:http://tzurl.org/zoneinfo-outlook/Europe/Berlin
X-LIC-LOCATION:Europe/Berlin
CALSCALE:GREGORIAN
BEGIN:DAYLIGHT
TZOFFSETFROM:+0100
TZOFFSETTO:+0200
TZNAME:CEST
DTSTART:19700329T020000
RRULE:FREQ=YEARLY;BYMONTH=3;BYDAY=-1SU
END:DAYLIGHT
BEGIN:STANDARD
TZOFFSETFROM:+0200
TZOFFSETTO:+0100
TZNAME:CET
DTSTART:19701025T030000
RRULE:FREQ=YEARLY;BYMONTH=10;BYDAY=-1SU
END:STANDARD
END:VTIMEZONE
BEGIN:VEVENT
CREATED:20180125T084922
LAST-MODIFIED:20180125T085029
ORGANIZER;CN="KITA St. Raphael":MAILTO:08389 / 486
DTSTAMP:20260424T131731Z
DTSTART;TZID=Europe/Berlin:20180202T143000
DTEND;TZID=Europe/Berlin:20180202T170000
CATEGORIES:Fasching
SUMMARY:Kinderball
DESCRIPTION:Organisator KITA St. Raphael Kontakt 08389 / 486
LOCATION:Haus des Gastes
UID:1715f4e54c0d72a21871a85ba43358b2@edcfadbda1458757b59248068739096e
END:VEVENT
END:VCALENDAR