BEGIN:VCALENDAR
VERSION:2.0
PRODID:< http://www.open2c.de/ >
METHOD:PUBLISH
X-PUBLISHED-TTL:PT12H
BEGIN:VTIMEZONE
TZID:Europe/Berlin
TZURL:http://tzurl.org/zoneinfo-outlook/Europe/Berlin
X-LIC-LOCATION:Europe/Berlin
CALSCALE:GREGORIAN
BEGIN:DAYLIGHT
TZOFFSETFROM:+0100
TZOFFSETTO:+0200
TZNAME:CEST
DTSTART:19700329T020000
RRULE:FREQ=YEARLY;BYMONTH=3;BYDAY=-1SU
END:DAYLIGHT
BEGIN:STANDARD
TZOFFSETFROM:+0200
TZOFFSETTO:+0100
TZNAME:CET
DTSTART:19701025T030000
RRULE:FREQ=YEARLY;BYMONTH=10;BYDAY=-1SU
END:STANDARD
END:VTIMEZONE
BEGIN:VEVENT
CREATED:20180130T092836
LAST-MODIFIED:20180130T095057
ORGANIZER;CN="FFW Sigmarszell":MAILTO:T. Thullner\, F. Brombeiß
DTSTAMP:20260422T040147Z
DTSTART;VALUE=DATE:20180806
CATEGORIES:Gemeinde
SUMMARY:FFW Sigmarszell - Übung Brand
DESCRIPTION:Organisator FFW Sigmarszell Kontakt T. Thullner\, F. Brombeiß
UID:b58060f24ef97f76cf2d3c86034a2428@edcfadbda1458757b59248068739096e
END:VEVENT
END:VCALENDAR